BEGIN:VCALENDAR
VERSION:2.0
PRODID:-//Tetsworth Parish Council//Meeting Calendar//EN
CALSCALE:GREGORIAN
METHOD:PUBLISH
BEGIN:VEVENT
UID:71573-20260218@tetsworthparishcouncil.gov.uk
DTSTAMP:20260421T084455Z
DTSTART;VALUE=DATE:20260218
DTEND;VALUE=DATE:20260219
SUMMARY:Extra Ordinary Meeting &#8211\\; 18th February 2026
DESCRIPTION:Extraordinary Meeting\nView details: https://tetsworthparishcouncil.gov.uk/meetings/extra-ordinary-meeting-18th-february-2026/
URL:https://tetsworthparishcouncil.gov.uk/meetings/extra-ordinary-meeting-18th-february-2026/
END:VEVENT
END:VCALENDAR
