BEGIN:VCALENDAR
VERSION:2.0
PRODID:-//Tetsworth Parish Council//Meeting Calendar//EN
CALSCALE:GREGORIAN
METHOD:PUBLISH
BEGIN:VEVENT
UID:71482-20260713@tetsworthparishcouncil.gov.uk
DTSTAMP:20260421T114417Z
DTSTART;VALUE=DATE:20260713
DTEND;VALUE=DATE:20260714
SUMMARY:Full Council Meeting &#8211\\; 13th July 2026
DESCRIPTION:Full Council Meeting\nView details: https://tetsworthparishcouncil.gov.uk/meetings/full-council-meeting-13th-july-2026/
URL:https://tetsworthparishcouncil.gov.uk/meetings/full-council-meeting-13th-july-2026/
END:VEVENT
END:VCALENDAR
