BEGIN:VCALENDAR
VERSION:2.0
PRODID:-//Tetsworth Parish Council//Meeting Calendar//EN
CALSCALE:GREGORIAN
METHOD:PUBLISH
BEGIN:VEVENT
UID:71477-20260209@tetsworthparishcouncil.gov.uk
DTSTAMP:20260422T101616Z
DTSTART;VALUE=DATE:20260209
DTEND;VALUE=DATE:20260210
SUMMARY:Full Council Meeting &#8211\\; 9th February 2026
DESCRIPTION:Full Council Meeting\nView details: https://tetsworthparishcouncil.gov.uk/meetings/full-council-meeting-9th-february-2026/
URL:https://tetsworthparishcouncil.gov.uk/meetings/full-council-meeting-9th-february-2026/
END:VEVENT
END:VCALENDAR
