BEGIN:VCALENDAR
VERSION:2.0
PRODID:-//Tetsworth Parish Council//Meeting Calendar//EN
CALSCALE:GREGORIAN
METHOD:PUBLISH
BEGIN:VEVENT
UID:70582-20251110@tetsworthparishcouncil.gov.uk
DTSTAMP:20260422T114149Z
DTSTART;VALUE=DATE:20251110
DTEND;VALUE=DATE:20251111
SUMMARY:Full Council Meeting &#8211\\; 10 November 2025
DESCRIPTION:Full Council Meeting\nView details: https://tetsworthparishcouncil.gov.uk/meetings/full-council-meeting-10-november-2025/
URL:https://tetsworthparishcouncil.gov.uk/meetings/full-council-meeting-10-november-2025/
END:VEVENT
END:VCALENDAR
