BEGIN:VCALENDAR
VERSION:2.0
PRODID:-//Tetsworth Parish Council//Meeting Calendar//EN
CALSCALE:GREGORIAN
METHOD:PUBLISH
BEGIN:VEVENT
UID:70477-20240715@tetsworthparishcouncil.gov.uk
DTSTAMP:20260422T150235Z
DTSTART;VALUE=DATE:20240715
DTEND;VALUE=DATE:20240716
SUMMARY:Full Council Meeting &#8211\\; 15 July 2024
DESCRIPTION:Full Council Meeting\nView details: https://tetsworthparishcouncil.gov.uk/meetings/full-council-meeting-15-july-2024/
URL:https://tetsworthparishcouncil.gov.uk/meetings/full-council-meeting-15-july-2024/
END:VEVENT
END:VCALENDAR
